BEGIN:VCALENDAR
VERSION:2.0
PRODID:-//Groupe des Foyers Islamo Chrétiens - ECPv6.11.2//NONSGML v1.0//EN
CALSCALE:GREGORIAN
METHOD:PUBLISH
X-WR-CALNAME:Groupe des Foyers Islamo Chrétiens
X-ORIGINAL-URL:https://gfic.fr
X-WR-CALDESC:Évènements pour Groupe des Foyers Islamo Chrétiens
REFRESH-INTERVAL;VALUE=DURATION:PT1H
X-Robots-Tag:noindex
X-PUBLISHED-TTL:PT1H
BEGIN:VTIMEZONE
TZID:Europe/Paris
BEGIN:DAYLIGHT
TZOFFSETFROM:+0100
TZOFFSETTO:+0200
TZNAME:CEST
DTSTART:20250330T010000
END:DAYLIGHT
BEGIN:STANDARD
TZOFFSETFROM:+0200
TZOFFSETTO:+0100
TZNAME:CET
DTSTART:20251026T010000
END:STANDARD
END:VTIMEZONE
BEGIN:VEVENT
DTSTART;TZID=Europe/Paris:20251026T170000
DTEND;TZID=Europe/Paris:20251026T190000
DTSTAMP:20260421T190217
CREATED:20250912T202248Z
LAST-MODIFIED:20250912T202248Z
UID:4237-1761498000-1761505200@gfic.fr
SUMMARY:Café couples en visio le 26 Octobre 2025
DESCRIPTION:Formule idéale pour les jeunes couples habitant en dehors de l’Ile de France et Marseille.\n\n\n\nRetrouvez des couples du GFIC de France pour échanger et écouter leurs témoignages dans une ambiance conviviale quelque soit votre lieu d’habitation.\n\n\nOù ? par visioconférence sur le serveur Discord du GFIC. Les informations de connexion vous seront partagées\, une fois votre inscription confirmée \nQuand ? Dimanche 26 Octobre 2025 de 17h à 19h sans limite de nombre de couples d’inscrits \nComment s’inscrire ? Formulaire d’inscription café couples IDF \n\nL’inscription est obligatoire et vaut engagement de participation. \n\nVous recevrez un mail qui vous confirme la validation de votre inscription.\n\n\n\nL’inscription vaut engagement\, merci de prévenir si vous ne pouvez plus vous rendre disponible pour permettre au maximum de couples d’être accompagnés.\n\n\n\nUn café couples islamo-chrétiens\, en quoi cela consiste ? \nLes couples\, dont l’un des conjoints est musulman et l’autre chrétien\, rencontrent au cours de leur vie de couple des questions spécifiques: quelle cérémonie de mariage\, quelles habitudes de la vie courante (interdits alimentaires\, mode vestimentaire\, rythme de vie …)\, comment accueillir l’enfant (baptême\, circoncision …)\, que transmettre et comment transmettre à ses enfants\, … \nLes questions sont très nombreuses et ces couples ont besoin d’espace et de temps qui leur soient réservés pour échanger entre eux\, loin du regard des familles et des communautés. \nLe café couple est ce lieu d’échange entre couples lors d’un moment convivial. Le café-couple rassemble des couples islamo-chrétiens\, tous à des moments différents de leur vie\, qui ont envie d’échanger et de partager sur leur vie de couple et de famille. \nVous êtes les bienvenus seul ou en couple. \nIl n’est pas nécessaire d’être adhérent au GFIC pour participer au café couples.
URL:https://gfic.fr/event/cafe-couples-en-visio-le-26-octobre-2025/
LOCATION:visio
CATEGORIES:Cafés couples
ATTACH;FMTTYPE=image/jpeg:https://gfic.fr/wp-content/uploads/2022/01/VistaCreate-159818482-stock-photo-multiethnic-couple-shopping-online.jpeg
END:VEVENT
END:VCALENDAR