BEGIN:VCALENDAR
VERSION:2.0
PRODID:-//Groupe des Foyers Islamo Chrétiens - ECPv6.11.2//NONSGML v1.0//EN
CALSCALE:GREGORIAN
METHOD:PUBLISH
X-WR-CALNAME:Groupe des Foyers Islamo Chrétiens
X-ORIGINAL-URL:https://gfic.fr
X-WR-CALDESC:Évènements pour Groupe des Foyers Islamo Chrétiens
REFRESH-INTERVAL;VALUE=DURATION:PT1H
X-Robots-Tag:noindex
X-PUBLISHED-TTL:PT1H
BEGIN:VTIMEZONE
TZID:Europe/Helsinki
BEGIN:DAYLIGHT
TZOFFSETFROM:+0200
TZOFFSETTO:+0300
TZNAME:EEST
DTSTART:20240331T010000
END:DAYLIGHT
BEGIN:STANDARD
TZOFFSETFROM:+0300
TZOFFSETTO:+0200
TZNAME:EET
DTSTART:20241027T010000
END:STANDARD
END:VTIMEZONE
BEGIN:VEVENT
DTSTART;TZID=Europe/Helsinki:20240316T163000
DTEND;TZID=Europe/Helsinki:20240316T210000
DTSTAMP:20260422T132625
CREATED:20240117T182140Z
LAST-MODIFIED:20240301T111920Z
UID:3888-1710606600-1710622800@gfic.fr
SUMMARY:Veillée spirituelle pendant Ramadan en Ile-de-France
DESCRIPTION:Le GFIC souhaite vous convier à un Iftar spécial pour célébrer le mois de Ramadan le samedi 16 mars 2024 à la Mosquée Al Hashimi de St-Ouen (93). \n\n  \nNous vous proposons de partager un moment spirituel en priant et en rompant le jeûne ensemble. Les enfants du GFIC auront également leur propre temps pour échanger sur la mosquée\, le Ramadan\, 3ème Pilier de l’Islam\, ainsi que sur le thème de l’année : La Paix. \nDéroulement ? \nRendez-vous à 16h30\n– 16h45 : \nAdultes : Echanges autours du Ramadan vécu dans les couples mixtes et temps spirituel\n(réservés aux couples islamo-chrétiens) \nEnfants et parents : Atelier Ramadan et Paix autour des piliers de l’Islam\, coloriage et lecture avec visite de la Mosquée\, participation au « Dhikr ». \n– 18h45 : rupture du jeûne (ouvert à tous) \n  \nInscription ? \nL’évènement est ouvert à tous sur inscription préalable via le formulaire. \nParticipation ?\nNon obligatoire mais une enveloppe sera à disposition de celles et ceux qui souhaitent participer pour remercier la mosquée.\n\n\nNous remercions la mosquée de Saint Ouen(93)\, et tout particulièrement son recteur Abdelghani Benali\, pour leur bel accueil.
URL:https://gfic.fr/event/veillee-spirituelle-pendant-ramadan-en-region-ile-de-france-le-16-mars-2024/
LOCATION:Saint Ouen (93)
CATEGORIES:Les enfants du GFIC,Veillée spirituelle
ATTACH;FMTTYPE=image/jpeg:https://gfic.fr/wp-content/uploads/2024/01/mosquee-saint-ouen.jpeg
END:VEVENT
BEGIN:VEVENT
DTSTART;TZID=Europe/Helsinki:20240316T183000
DTEND;TZID=Europe/Helsinki:20240316T223000
DTSTAMP:20260422T132625
CREATED:20240118T114152Z
LAST-MODIFIED:20240301T104400Z
UID:3908-1710613800-1710628200@gfic.fr
SUMMARY:Iftar du GFIC à Marseille
DESCRIPTION:Le GFIC de Marseille vous propose une rupture de jeûne en toute convivialité autour d’un repas partagé lors du mois de Ramadan le samedi 16 Mars 2024 à Marseille (14e) -Le lieu sera précisé ultérieurement. \nQue vous soyez en famille\, seul ou en couple\, vous pouvez vous joindre aux autres foyers islamo-chrétiens pour partager dans la joie ce moment ci spécial. \n Info pratiques : \n– Inscription obligatoire via le lien ci-dessous :  \n👉 Inscription rupture du jeûne 16 mars 2024  \n– Covoiturage organisé via le formulaire d’inscription  \nUn covoiturage total ou partiel (à partir d’un transport en commun plus proche du lieu) sera organisé. Une solution sera trouvée pour chacun  \n– Apporter un plat\, boisson à partager  \n👉 Merci d’indiquer ce que vous apportez via ce lien \nLes premiers inscrits apportent ce qu’ils veulent\, les derniers ce qui manque pour avoir un repas complet !!  \nParticipation libre et gratuite – Adhésion obligatoire  \n\nRAPPEL : \n– Pour une première participation : Adhésion non obligatoire pour le café couples et le pique-nique couples. \n – Pour participer aux autres activités du GFIC\, l’adhésion est nécessaire 👉Lien adhésion GFIC 2024 . (10€/personne ou 15€/couple. Les enfants sont inclus dans l’adhésion des parents)  \nVous pouvez nous rejoindre tout au long de l’année\, une rencontre avec des animateurs vous sera proposée pour prendre un premier contact\, répondre à vos questionnements du moment et vous permettre de décider de nous rejoindre en adhérant 
URL:https://gfic.fr/event/iftar-du-gfic-a-marseille-le-samedi-16-mars-2024/
LOCATION:Marseille
CATEGORIES:GFIC du sud,Veillée spirituelle
ATTACH;FMTTYPE=image/png:https://gfic.fr/wp-content/uploads/2024/01/Capture-decran-2024-03-01-a-10.32.46.png
END:VEVENT
END:VCALENDAR