BEGIN:VCALENDAR
VERSION:2.0
PRODID:-//Groupe des Foyers Islamo Chrétiens - ECPv6.11.2//NONSGML v1.0//EN
CALSCALE:GREGORIAN
METHOD:PUBLISH
X-WR-CALNAME:Groupe des Foyers Islamo Chrétiens
X-ORIGINAL-URL:https://gfic.fr
X-WR-CALDESC:Évènements pour Groupe des Foyers Islamo Chrétiens
REFRESH-INTERVAL;VALUE=DURATION:PT1H
X-Robots-Tag:noindex
X-PUBLISHED-TTL:PT1H
BEGIN:VTIMEZONE
TZID:Europe/Paris
BEGIN:DAYLIGHT
TZOFFSETFROM:+0100
TZOFFSETTO:+0200
TZNAME:CEST
DTSTART:20260329T010000
END:DAYLIGHT
BEGIN:STANDARD
TZOFFSETFROM:+0200
TZOFFSETTO:+0100
TZNAME:CET
DTSTART:20261025T010000
END:STANDARD
END:VTIMEZONE
BEGIN:VEVENT
DTSTART;TZID=Europe/Paris:20260503T150000
DTEND;TZID=Europe/Paris:20260503T170000
DTSTAMP:20260421T092037
CREATED:20260329T060045Z
LAST-MODIFIED:20260329T193022Z
UID:4279-1777820400-1777827600@gfic.fr
SUMMARY:Café couples GFIC SUD le 3 Mai 2026
DESCRIPTION:Retrouvez le GFIC du SUD pour ce début d’année 2026 à Istres.\n\n\nVenez échanger\, rencontrer des couples du GFIC dans une ambiance conviviale. \n\nOù ? Région Marseillaise et Montpellier. Lieu précisé après inscription. \nQuand ? Dimanche 15h-17h avec le planning suivant : \n\n 8 Février 2026 à Istres (13)\n29 Mars 2026 à Marseille (6e)\n 3 mai 2026 à Montpellier (34)\n31 mai 2026 à Martigues (pique-nique couples 11h-16h)\n5 Juillet 2025 à Marseille (5e)\n20 Septembre 2026 à Marseille (1er)\n18 octobre 2026 à Montpellier (34)\n22 Novembre 2026 à Marseille (14e)\n\n\n\n\n\nComment s’inscrire ? lien : Inscription cafés couples 2026 Marseille Montpellier.\n\n\n\nUn café couples islamo-chrétiens\, en quoi cela consiste ? \nLes couples\, dont l’un des conjoints est musulman et l’autre chrétien\, rencontrent au cours de leur vie de couple des questions spécifiques: quelle cérémonie de mariage\, quelles habitudes de la vie courante (interdits alimentaires\, mode vestimentaire\, rythme de vie …)\, comment accueillir l’enfant (baptême\, circoncision …)\, que transmettre et comment transmettre à ses enfants\, … \nLes questions sont très nombreuses et ces couples ont besoin d’espace et de temps qui leur soient réservés pour échanger entre eux\, loin du regard des familles et des communautés. \nLe café couple est ce lieu d’échange entre couples lors d’un moment convivial. Le café-couple rassemble des couples islamo-chrétiens\, tous à des moments différents de leur vie\, qui ont envie d’échanger et de partager sur leur vie de couple et de famille. \nVous êtes les bienvenus seul\, en couple ou en famille. \nParticipation libre et gratuite. \nIl n’est pas nécessaire d’être adhérent au GFIC pour participer au café couples.
URL:https://gfic.fr/event/cafe-couples-gfic-sud-le-3-mai-2026/
LOCATION:Montpellier\, France
CATEGORIES:Cafés couples,GFIC du sud
ATTACH;FMTTYPE=image/jpeg:https://gfic.fr/wp-content/uploads/2021/11/thé.jpg
END:VEVENT
BEGIN:VEVENT
DTSTART;TZID=Europe/Paris:20260523T130000
DTEND;TZID=Europe/Paris:20260525T120000
DTSTAMP:20260421T092037
CREATED:20260203T194712Z
LAST-MODIFIED:20260329T202119Z
UID:4255-1779541200-1779710400@gfic.fr
SUMMARY:Rassemblement annuel du GFIC 2026 week-end de Pentecote - Ile de France
DESCRIPTION:Nous avons le plaisir de vous convier à participer au rassemblement annuel du GFIC : \nQUAND ? du samedi 23 mai (à 13 h) au lundi 25 mai 2026 en fin de matinée. \nOù?  Château de Villebon-sur-Yvette \n7 rue du Baron de Nièvre \n91140 Villebon-sur-Yvette \nCette année\, les carrefours et la conférence porteront sur le thème suivant : «La prière comme rencontre avec Dieu et avec l’autre». \nCette année\, l’inscription se fait directement via HelloAsso en suivant ce lien. \nLa date limite pour vous inscrire est le 10 Mai 2026. \nVous pourrez choisir via HelloAsso\, la formule qui vous convient le mieux et régler directement en ligne (CB) vos frais de participation. Les paiements par virement restent possibles (les instructions à suivre sont indiquées dans les informations complémentaires de la page d’inscription). \nNous annoncerons le programme complet et la présentation des intervenants d’ici quelques semaines. \nN’hésitez pas\, en tant que couples islamo-chrétien à demander via la page contact à être inscrits à la newsletter pour être informés (pensez à indiquer vos noms prénoms et adresses mail).
URL:https://gfic.fr/event/rassemblement-annuel-du-gfic-2026-week-end-de-pentecote/
LOCATION:Villebon-sur-Yvette
CATEGORIES:GFIC Ile de France,Week end annuel de Pentecôte
ATTACH;FMTTYPE=image/jpeg:https://gfic.fr/wp-content/uploads/2026/02/Week_end_Pentecote_2026.jpeg
END:VEVENT
BEGIN:VEVENT
DTSTART;TZID=Europe/Paris:20260531T110000
DTEND;TZID=Europe/Paris:20260531T160000
DTSTAMP:20260421T092037
CREATED:20260409T220000Z
LAST-MODIFIED:20260203T215103Z
UID:4282-1780225200-1780243200@gfic.fr
SUMMARY:Pique-nique des Couples du GFIC SUD le 31 Mai 2026
DESCRIPTION:Retrouvez le GFIC du SUD pour ce début d’année 2026 à Istres.\n\n\nVenez échanger\, rencontrer des couples du GFIC dans une ambiance conviviale. \n\nOù ? Région Marseillaise et Montpellier. Lieu précisé après inscription. \nQuand ? Dimanche 15h-17h avec le planning suivant : \n\n 8 Février 2026 à Istres (13)\n29 Mars 2026 à Marseille (6e)\n 3 mai 2026 à Montpellier (34)\n31 mai 2026 à Martigues (pique-nique couples 11h-16h)\n5 Juillet 2025 à Marseille (5e)\n20 Septembre 2026 à Marseille (1er)\n18 octobre 2026 à Montpellier (34)\n22 Novembre 2026 à Marseille (14e)\n\n\n\n\n\nComment s’inscrire ? lien : Inscription Pique-nique 2026 Marseille Montpellier.\n\n\n\nUn café couples islamo-chrétiens\, en quoi cela consiste ? \nLes couples\, dont l’un des conjoints est musulman et l’autre chrétien\, rencontrent au cours de leur vie de couple des questions spécifiques: quelle cérémonie de mariage\, quelles habitudes de la vie courante (interdits alimentaires\, mode vestimentaire\, rythme de vie …)\, comment accueillir l’enfant (baptême\, circoncision …)\, que transmettre et comment transmettre à ses enfants\, … \nLes questions sont très nombreuses et ces couples ont besoin d’espace et de temps qui leur soient réservés pour échanger entre eux\, loin du regard des familles et des communautés. \nLe café couple est ce lieu d’échange entre couples lors d’un moment convivial. Le café-couple rassemble des couples islamo-chrétiens\, tous à des moments différents de leur vie\, qui ont envie d’échanger et de partager sur leur vie de couple et de famille. \nVous êtes les bienvenus seul\, en couple ou en famille. \nParticipation libre et gratuite. \nIl n’est pas nécessaire d’être adhérent au GFIC pour participer au café couples.
URL:https://gfic.fr/event/pique-nique-des-couples-du-gfic-sud-le-30-mai-2026/
LOCATION:Martigues
CATEGORIES:Cafés couples,GFIC du sud
ATTACH;FMTTYPE=image/jpeg:https://gfic.fr/wp-content/uploads/2020/05/picnic.jpg
END:VEVENT
END:VCALENDAR